BEGIN:VCALENDAR
VERSION:2.0
PRODID:-//Foundation for Social Connection - ECPv6.13.2.1//NONSGML v1.0//EN
CALSCALE:GREGORIAN
METHOD:PUBLISH
X-WR-CALNAME:Foundation for Social Connection
X-ORIGINAL-URL:https://www.social-connection.org
X-WR-CALDESC:Events for Foundation for Social Connection
REFRESH-INTERVAL;VALUE=DURATION:PT1H
X-Robots-Tag:noindex
X-PUBLISHED-TTL:PT1H
BEGIN:VTIMEZONE
TZID:America/New_York
BEGIN:DAYLIGHT
TZOFFSETFROM:-0500
TZOFFSETTO:-0400
TZNAME:EDT
DTSTART:20260308T070000
END:DAYLIGHT
BEGIN:STANDARD
TZOFFSETFROM:-0400
TZOFFSETTO:-0500
TZNAME:EST
DTSTART:20261101T060000
END:STANDARD
END:VTIMEZONE
BEGIN:VEVENT
DTSTART;TZID=America/New_York:20260210T080000
DTEND;TZID=America/New_York:20260210T170000
DTSTAMP:20260420T065015
CREATED:20260210T160457Z
LAST-MODIFIED:20260210T160510Z
UID:5135-1770710400-1770742800@www.social-connection.org
SUMMARY:Young Futures Innovators Showcase: Here Comes the Fun Cohort
DESCRIPTION:Play isn’t just for younger kids. For pre-teens and teens\, play is a critical tool for development\, supporting identity exploration and social connection. \nOur friends at Young Futures invite you to the YF Innovators Showcase featuring the Here Comes the Fun Cohort on February 18\, 2026. Hear directly from 8 visionary leaders who are designing innovative ways to support teen wellbeing through the power of play. \nFrom turning city skylines into canvases for creative computing to building safer gaming communities and digital RPGs to tackle loneliness\, these YF Innovators are redefining how we support youth in a hyper-digital world. Whether you’re a parent\, educator\, funder\, or youth wellbeing advocate\, you’ll leave with actionable insights to support the young people in your life. \nEvent Details: \n📅 Wednesday\, February 18\, 2026 \n⏰ 9:30 a.m. PT / 12:30 p.m. ET \n📍 Virtual \nSpread the word and join us in celebrating these changemakers! Together\, we can help teens navigate the digital world with confidence and joy. \nRegister to join here.
URL:https://www.social-connection.org/event/register-for-the-young-futures-innovators-showcase-here-comes-the-fun-cohort/
LOCATION:Virtual
CATEGORIES:Technology
END:VEVENT
BEGIN:VEVENT
DTSTART;TZID=America/New_York:20260210T180000
DTEND;TZID=America/New_York:20260210T190000
DTSTAMP:20260420T065015
CREATED:20260210T155443Z
LAST-MODIFIED:20260210T155443Z
UID:5131-1770746400-1770750000@www.social-connection.org
SUMMARY:Maine Coalition for Social Connection Listening Session
DESCRIPTION:We’re excited to share that our Foundation for Social Connection ambassador\, Cynthia Cushing\, and Community Plate Executive Director\, Karl Schatz\, are establishing a Maine Coalition for Social Connection. The goal is to assemble a coalition of stakeholders: individuals\, nonprofit and for-profit organizations\, funders\, and local and state government representatives\, to work together to address the critical issues of loneliness\, social isolation\, social disconnection\, and more generally promote social connectedness in Maine. \nThey are holding their first listening session on February 10 from 6-7pm. The guest speaker will be fellow F4SC Ambassador\, Stephen Cote\, from the Massachusetts Coalition to Build Community & End Loneliness who will share with us what they are doing in Massachusetts\, how they are organized\, and the impact they are having. \nWe invite you to register here and share the event with anyone who may be interested playing a role in this Maine initiative.
URL:https://www.social-connection.org/event/maine-coalition-for-social-connection-listening-session/
LOCATION:Virtual
ATTACH;FMTTYPE=image/jpeg:https://www.social-connection.org/wp-content/uploads/2026/02/Maine-Coalition-for-Social-Connection-session-reminder-Feb-2026.jpg
END:VEVENT
END:VCALENDAR