BEGIN:VCALENDAR
VERSION:2.0
PRODID:-//Foundation for Social Connection - ECPv6.13.2.1//NONSGML v1.0//EN
CALSCALE:GREGORIAN
METHOD:PUBLISH
X-ORIGINAL-URL:https://www.social-connection.org
X-WR-CALDESC:Events for Foundation for Social Connection
REFRESH-INTERVAL;VALUE=DURATION:PT1H
X-Robots-Tag:noindex
X-PUBLISHED-TTL:PT1H
BEGIN:VTIMEZONE
TZID:America/New_York
BEGIN:DAYLIGHT
TZOFFSETFROM:-0500
TZOFFSETTO:-0400
TZNAME:EDT
DTSTART:20250309T070000
END:DAYLIGHT
BEGIN:STANDARD
TZOFFSETFROM:-0400
TZOFFSETTO:-0500
TZNAME:EST
DTSTART:20251102T060000
END:STANDARD
END:VTIMEZONE
BEGIN:VEVENT
DTSTART;TZID=America/New_York:20250617T140000
DTEND;TZID=America/New_York:20250617T150000
DTSTAMP:20260420T053336
CREATED:20250522T160239Z
LAST-MODIFIED:20250522T191351Z
UID:4449-1750168800-1750172400@www.social-connection.org
SUMMARY:Advancing Social Connection through Food and Nutrition
DESCRIPTION:Food is more than just fuel for our bodies – it’s a powerful tool for fostering connection and building community. In this upcoming webinar\, the Foundation for Social Connection will explore how food and nutrition can go beyond physical nourishment to strengthen relationships\, bridge divides\, and build a sense of belonging. \nDrawing upon their latest SOCIAL Framework report on the Food and Nutrition Sector\, presenters will dive into how food systems – spanning everything from production to distribution to consumption – can be intentionally designed to strengthen social bonds across diverse populations and settings. \nFeaturing a fireside chat with experts who contributed to the report\, they’ll also discuss actionable strategies and share insights for advancing social connection through systems change and community engagement. \nWhether you are a farmer\, policymaker\, business owner\, health practitioner\, or engaged citizen\, this webinar invites you to reimagine our relationship with food and discover effective ways to build a stronger culture of connection through food and nutrition. Register here.
URL:https://www.social-connection.org/event/advancing-social-connection-through-food-and-nutrition/
LOCATION:Virtual
CATEGORIES:Nutrition
ATTACH;FMTTYPE=image/png:https://www.social-connection.org/wp-content/uploads/2025/05/SOCIAL-Framework-Square-Graphics-5.png
END:VEVENT
END:VCALENDAR